BEGIN:VCALENDAR
VERSION:2.0
PRODID:-//Mo&#039;s House Of Axe - ECPv5.16.0//NONSGML v1.0//EN
CALSCALE:GREGORIAN
METHOD:PUBLISH
X-WR-CALNAME:Mo&#039;s House Of Axe
X-ORIGINAL-URL:https://moshouseofaxe.com
X-WR-CALDESC:Events for Mo&#039;s House Of Axe
REFRESH-INTERVAL;VALUE=DURATION:PT1H
X-Robots-Tag:noindex
X-PUBLISHED-TTL:PT1H
BEGIN:VTIMEZONE
TZID:America/Los_Angeles
BEGIN:DAYLIGHT
TZOFFSETFROM:-0800
TZOFFSETTO:-0700
TZNAME:PDT
DTSTART:20220313T100000
END:DAYLIGHT
BEGIN:STANDARD
TZOFFSETFROM:-0700
TZOFFSETTO:-0800
TZNAME:PST
DTSTART:20221106T090000
END:STANDARD
BEGIN:DAYLIGHT
TZOFFSETFROM:-0800
TZOFFSETTO:-0700
TZNAME:PDT
DTSTART:20230312T100000
END:DAYLIGHT
BEGIN:STANDARD
TZOFFSETFROM:-0700
TZOFFSETTO:-0800
TZNAME:PST
DTSTART:20231105T090000
END:STANDARD
END:VTIMEZONE
BEGIN:VEVENT
DTSTART;TZID=America/Los_Angeles:20231229T210000
DTEND;TZID=America/Los_Angeles:20231230T000000
DTSTAMP:20260419T235829
CREATED:20231212T212327Z
LAST-MODIFIED:20231212T223202Z
UID:3073-1703883600-1703894400@moshouseofaxe.com
SUMMARY:DJ - Motropolis Nights at Mo's
DESCRIPTION:Dj music nights at Mo’s
URL:https://moshouseofaxe.com/event/dj-phil/
LOCATION:CA
END:VEVENT
BEGIN:VEVENT
DTSTART;TZID=America/Los_Angeles:20231228T170000
DTEND;TZID=America/Los_Angeles:20231228T200000
DTSTAMP:20260419T235829
CREATED:20231214T183916Z
LAST-MODIFIED:20231214T183916Z
UID:3090-1703782800-1703793600@moshouseofaxe.com
SUMMARY:NFL Thursday Night Football Watch Party
DESCRIPTION:NFL Watch Party: Thursday Night Football — Eat\, Drink and Throw (if you like.)  Happy Hour specials until 7:00.
URL:https://moshouseofaxe.com/event/nfl-thursday-night-football-watch-party/
LOCATION:Mo’s House of Axe\, 611 S Western Ave\, Los Angeles\, CA\, 90005\, United States
CATEGORIES:NFL Watch Party
END:VEVENT
BEGIN:VEVENT
DTSTART;TZID=America/Los_Angeles:20231223T210000
DTEND;TZID=America/Los_Angeles:20231224T000000
DTSTAMP:20260419T235829
CREATED:20231212T211911Z
LAST-MODIFIED:20231212T223608Z
UID:3068-1703365200-1703376000@moshouseofaxe.com
SUMMARY:DJ - Motropolis Nights at Mo's
DESCRIPTION:Dj music nights at Mo’s
URL:https://moshouseofaxe.com/event/dj-3/
LOCATION:CA
CATEGORIES:WEEKEND DJ
END:VEVENT
BEGIN:VEVENT
DTSTART;TZID=America/Los_Angeles:20231222T210000
DTEND;TZID=America/Los_Angeles:20231223T000000
DTSTAMP:20260419T235829
CREATED:20231212T211728Z
LAST-MODIFIED:20231212T211742Z
UID:3065-1703278800-1703289600@moshouseofaxe.com
SUMMARY:DJ Phil Laying the beats
DESCRIPTION:
URL:https://moshouseofaxe.com/event/dj-phil-laying-the-beats/
LOCATION:CA
END:VEVENT
BEGIN:VEVENT
DTSTART;TZID=America/Los_Angeles:20231221T170000
DTEND;TZID=America/Los_Angeles:20231221T200000
DTSTAMP:20260419T235829
CREATED:20231214T183400Z
LAST-MODIFIED:20231214T183400Z
UID:3087-1703178000-1703188800@moshouseofaxe.com
SUMMARY:NFL Football Watch Party
DESCRIPTION:Watch Thursday Night Football — Eat Drink and throw if you want.  Happy Hour specials until 7:00
URL:https://moshouseofaxe.com/event/nfl-football-watch-party-2/
LOCATION:Mo’s House of Axe\, 611 S Western Ave\, Los Angeles\, CA\, 90005\, United States
END:VEVENT
BEGIN:VEVENT
DTSTART;TZID=America/Los_Angeles:20231216T210000
DTEND;TZID=America/Los_Angeles:20231217T000000
DTSTAMP:20260419T235829
CREATED:20231212T211154Z
LAST-MODIFIED:20231212T212211Z
UID:3061-1702760400-1702771200@moshouseofaxe.com
SUMMARY:DJ Sophenom
DESCRIPTION:
URL:https://moshouseofaxe.com/event/dj-2/
LOCATION:Mo’s House of Axe\, 611 S Western Ave\, Los Angeles\, CA\, 90005\, United States
ORGANIZER;CN="Mo%27s%20House%20of%20Axe":MAILTO:info@moshouseofaxe.com
END:VEVENT
BEGIN:VEVENT
DTSTART;TZID=America/Los_Angeles:20231215T220000
DTEND;TZID=America/Los_Angeles:20231216T000000
DTSTAMP:20260419T235829
CREATED:20231129T235339Z
LAST-MODIFIED:20231212T210159Z
UID:3033-1702677600-1702684800@moshouseofaxe.com
SUMMARY:Live Music and Variety Show
DESCRIPTION:Love Axe @ Mo’s presents our Christmas Variety Show.  Burlesque\, Rap\, Drag\, Pole and DJ. Our host Christina Galston welcomes Claire Voyant\, Lyndon Laveaux\, Vanda Mystére\, Amaya Absynthe\, and DJ Meech to Mo’s stage.
URL:https://moshouseofaxe.com/event/live-music-and-variety-show/
LOCATION:CA
END:VEVENT
BEGIN:VEVENT
DTSTART;TZID=America/Los_Angeles:20231214T170000
DTEND;TZID=America/Los_Angeles:20231214T200000
DTSTAMP:20260419T235829
CREATED:20231214T183108Z
LAST-MODIFIED:20231214T183124Z
UID:3082-1702573200-1702584000@moshouseofaxe.com
SUMMARY:NFL Football Watch Party
DESCRIPTION:Watch Thursday Night Football — Eat Drink and throw if you want.  Happy Hour specials until 7:00
URL:https://moshouseofaxe.com/event/nfl-football-watch-party/
LOCATION:Mo’s House of Axe\, 611 S Western Ave\, Los Angeles\, CA\, 90005\, United States
END:VEVENT
BEGIN:VEVENT
DTSTART;TZID=America/Los_Angeles:20231201T210000
DTEND;TZID=America/Los_Angeles:20231202T010000
DTSTAMP:20260419T235829
CREATED:20231129T234059Z
LAST-MODIFIED:20231212T210536Z
UID:3030-1701464400-1701478800@moshouseofaxe.com
SUMMARY:DJ
DESCRIPTION:DJ Phil laying the beats all night
URL:https://moshouseofaxe.com/event/dj/
LOCATION:CA
END:VEVENT
BEGIN:VEVENT
DTSTART;VALUE=DATE:20230529
DTEND;VALUE=DATE:20230531
DTSTAMP:20260419T235829
CREATED:20230527T001007Z
LAST-MODIFIED:20230527T001118Z
UID:2617-1685329200-1685415599@moshouseofaxe.com
SUMMARY:Closed Memorial Day
DESCRIPTION:
URL:https://moshouseofaxe.com/event/memorial-day/
LOCATION:Mo’s House of Axe\, 611 S Western Ave\, Los Angeles\, CA\, 90005\, United States
END:VEVENT
BEGIN:VEVENT
DTSTART;TZID=America/Los_Angeles:20221130T190000
DTEND;TZID=America/Los_Angeles:20221201T000000
DTSTAMP:20260419T235829
CREATED:20221123T234624Z
LAST-MODIFIED:20221123T234624Z
UID:2345-1669834800-1669852800@moshouseofaxe.com
SUMMARY:Sip & Axe Tesoro Tequila Tasting
DESCRIPTION:  \nWEDNESDAY Nov 30th 🥃🪓 7pm – 12am \nJoin Mo’s House of Axe and Tesoro Azteca Tequila for an unforgettable night! \nOur premium tequila tasting table and delicious meals are sure to set your senses ablaze! 🔥\nBook your axe throwing bays and dining tables HERE! ⬅️\nSip on unique cocktails and enjoy the hottest Latin music hits all night long by DJs and performers: \nDJ BRVO \n K$B \n Mas Fortuna \n Harlay Wuezo \n& Feefa! 🎶 \nWe promise you won’t want to miss this- RSVP now! 🎯
URL:https://moshouseofaxe.com/event/sip-and-axe-tesoro-tequila-tasting/
LOCATION:Mo’s House of Axe\, 611 S Western Ave\, Los Angeles\, CA\, 90005\, United States
CATEGORIES:SIP & AXE
ATTACH;FMTTYPE=image/jpeg:https://moshouseofaxe.com/wp-content/uploads/2022/11/Sip-Axe-4x5-Nov-30.jpg
ORGANIZER;CN="Mo%27s%20House%20of%20Axe":MAILTO:info@moshouseofaxe.com
END:VEVENT
BEGIN:VEVENT
DTSTART;TZID=America/Los_Angeles:20221028T200000
DTEND;TZID=America/Los_Angeles:20221029T200000
DTSTAMP:20260419T235829
CREATED:20221010T221742Z
LAST-MODIFIED:20221024T003115Z
UID:2290-1666987200-1667073600@moshouseofaxe.com
SUMMARY:"From Dusk Till Dawn" Halloween Bash
DESCRIPTION:“It ain’t the length of the fangs\, it’s the fright in the bite”—Lugosi* *maybe\, but probably not \nLugubriously lush and chillingly chic\, Mo’s House of Axe draws back the heavy red velvets to transform “FROM DUSK TILL DAWN” with a dungeon’s worth of Maniacal Madness: a DJ\, Burlesque\, a living dead Band\, and a horrific horde of other unspeakableness \nDJ Tyler Stone wings in from NYC to spin Pestilential Punk\, Demented Disco\, Necrotic New Wave\, Gut-spilling Glam\, and other unnamable terrors \nTheatre des Vampires Burlesque: A deviously campy and deliciously sexy Vampire Cabaret 👠 featuring undead beauties Queen of the Damned\, Gothica\, and Santanica Pandemonium \nAnd for one night only\, back from the dead\, THE GABBA GABBA HEYS pay tribute to the gone-but-ever-haunting THE RAMONES – the greatest punk band to ever stalk the Earth \nTo slake your bloodthirsty cravings\, feed from the bleed of Mo’s Blood Bag of fangría roja deliciosa\, Vampire Vodka Martinis\, FrankenPunch\, Zombies\, and Black Magic Shots \nDevour Devilishly Decadent Halloween Dinner Specials \nspectral surprises\, ghastly contests\, and putrid prizes all the ghoulish night long \nDress Code: Costumes A Must! Gothic looks\, Horror-freaks\, Classic Punk\, Glam Rock Vamp\, let your imagination run rabid. \nRSVP on Eventbrite before it’s BOO late! 🎃🍻\nBook your table reservations now: events@moshouseofaxe.com \nSpookily sponsored by: Pernod Ricard\, Avion\, OlMeca Altos\, Del Maguey\, Juneshine\, and Stone Brewing \nEVENT DATE AND TIME: BOOK NOW!! BOOK NOW!! BOOK NOW!! \nOctober 28\, 8pm to 2am \nEVENT LOCATION: MO’S HOUSE OF AXE\, LA’s magnificently macabre axe-throwing bar and restaurant venue 611 S Western Ave. 213-908-0808 https://moshouseofaxe.com/
URL:https://moshouseofaxe.com/event/from-dusk-till-dawn-halloween-bash/
LOCATION:Mo’s House of Axe\, 611 S Western Ave\, Los Angeles\, CA\, 90005\, United States
CATEGORIES:Holidays
ATTACH;FMTTYPE=image/png:https://moshouseofaxe.com/wp-content/uploads/2022/09/FDTD-Promo-Page.png
ORGANIZER;CN="Mo%27s%20House%20of%20Axe":MAILTO:info@moshouseofaxe.com
END:VEVENT
BEGIN:VEVENT
DTSTART;TZID=America/Los_Angeles:20220929T180000
DTEND;TZID=America/Los_Angeles:20220930T000000
DTSTAMP:20260419T235829
CREATED:20220802T200859Z
LAST-MODIFIED:20220914T200124Z
UID:2160-1664474400-1664496000@moshouseofaxe.com
SUMMARY:Sip & Axe!
DESCRIPTION:Premium Tequila Tasting with exclusive Mo’s House of Axe cocktails\, made in collaboration with Tesoro Azteca Tequila!\n\nLIVE MUSIC for a Latin musical experience all night!\n\nBook your dining table and axe throwing bays on our website.\nwww.moshouseofaxe.com/reservations\n\n\nDon’t miss out on a night to SIP & AXE!
URL:https://moshouseofaxe.com/event/sip-and-axe-tequila/
LOCATION:Mo’s House of Axe\, 611 S Western Ave\, Los Angeles\, CA\, 90005\, United States
CATEGORIES:SIP & AXE
ORGANIZER;CN="Tesoro%20Azteca%20Tequila":MAILTO:info@tequilatesoroazteca.com
END:VEVENT
BEGIN:VEVENT
DTSTART;TZID=America/Los_Angeles:20220923T190000
DTEND;TZID=America/Los_Angeles:20220924T020000
DTSTAMP:20260419T235829
CREATED:20220914T195538Z
LAST-MODIFIED:20220914T195538Z
UID:2262-1663959600-1663984800@moshouseofaxe.com
SUMMARY:To The Nines Shaken Not Stirred Martini Night
DESCRIPTION:To The Nines Shaken Not Stirred Martini Night hosted by Mo’s House of Axe September 23rd 2022 with live performers No Suits and prizes sponsored by Pernod Ricard. \nEverybody receives a bowtie upon entering. \n2 lucky bow ties will win the grand prizes including: \n1 Pernod Ricard Bar Kit for elevated cocktail creation \n1 Bottle of Malfy Blood Orange Gin \n1 Bottle of Amass Gin/Vodka \n1 Bottle of Bomani Cold Buzz
URL:https://moshouseofaxe.com/event/to-the-nines-shaken-not-stirred-night/
LOCATION:Mo’s House of Axe\, 611 S Western Ave\, Los Angeles\, CA\, 90005\, United States
ORGANIZER;CN="Mo%27s%20House%20of%20Axe":MAILTO:info@moshouseofaxe.com
END:VEVENT
BEGIN:VEVENT
DTSTART;TZID=America/Los_Angeles:20220826T210000
DTEND;TZID=America/Los_Angeles:20220827T020000
DTSTAMP:20260419T235829
CREATED:20220802T200109Z
LAST-MODIFIED:20220824T205116Z
UID:2158-1661547600-1661565600@moshouseofaxe.com
SUMMARY:This Ain't No Picnic Pre-Parties & Weekender Ticket Giveaway!
DESCRIPTION:This Ain’t No Picnic is a 2-day festival taking place on August 27 & 28\, 2022\nat Brookside at the Rose Bowl in Pasadena\, California!\nPurchasable tickets still available!\n\nMo’s House of Axe is hosting the Pre-Parties for the\nHOTTEST MUSIC FESTIVAL OF THE SUMMER!\nAUGUST 12th & 26th \n\n*** RESERVE YOUR AXE THROWING LANES HERE TO ENTER OUR BULLSEYE COMPETITION! ***\nYOU CAN WIN A SET OF WEEKENDER TANP TICKETS EVERY FRIDAY IN AUGUST! \n\nReserve your axe throwing lanes to ENTER the competition below!\n\nwww.moshouseofaxe.com/reservations\n\nDJ Sur Jazz playing the official This Ain’t No Picnic Lineup Playlist!\n\nA few of everyone’s favorites such as LCD SoundSystem\, The Strokes\, Descendents\, Jorja Smith\, Kaytranada\, Isaiah Rashad\, Phoebe Bridgers\, Beach House\, and MANY MORE!\n\nNot into competition? That’s fine! TICKETS FOR PURCHASE AVAILABLE! Hurry!\n\nhttps://thisaintnopicnic.com/tickets/\n\n\n\n\n\n\n\n\n\n\nFESTIVAL GENERAL INFO:\nVenue doors open at Noon both days. Curfew is 11pm.\nShow will take place rain or Shine.\nNo Ins/Outs.\nAll Ages welcome.\nExcluding Clubhouse (21+).\nChildren 5 & under are free.\nMust be accompanied by a ticketed adult. Excluding Clubhouse (21+).\nFood and beverages sold separately.\nLineup and set times are subject to change without notice.\nPlease visit our ADA page for ADA information.\nALLOWED ITEMS\nYES Backpacks (Medium) 18″x13″x8.5″\nYES Bandaids\nYES Binoculars\nYES Breast Pump (Manual\, Battery Operated\, Or Powered Devices)\nYES CamelBaks (Empty)\nYES Cameras (Non-Pro Digital\, Disposable\, Polaroid and Film)\nYES Chapstick and Lip Balm\nYES Dancing Shoes\nYES Ear Plugs\nYES Eye Drops\nYES Fanny Packs and Hip Bags\nYES GoPros\nYES Gum (sealed packs)\nYES Hand Sanitizer\nYES Hats\nYES Inhalers\nYES Makeup\nYES Mobile Phone Chargers\nYES Parasols\nYES Plastic Water Bottles (Empty and Reusable)\nYES Personal Medication (Name On Medication Must Correlate With Persons DL or State ID)\nYES Personal Protective Equipment (PPE) Masks\nYES Purses and Handbags 12”x6”x12”\nYES Stored Breastmilk or Formula\nYES Strollers (for baby/toddlers only)\nYES Sunblock (Non-Aerosol)\nYES Sunglasses\nYES Towels (small-medium size)\nPROHIBITED ITEMS\nNO Advanced First Aid Kits (Advanced first aid kits include but not limited to hemostatic gauze or powder\, tourniquets\, compression bandages\, decompression needles\, or chest seals)\nNO Aerosol Products/Aerosol Cans\nNO Air Horns\nNO Animals\nNO Audio Recording Devices\nNO Bicycles\, Skates\, Scooters or Skateboards\nNO Blankets\nNO Body Armor\nNO Coolers\nNO Chains or Chain Wallets\nNO Chairs\nNO Detachable Lens Cameras\nNO Drones or Remote Control Aircraft\, Cars or Toys\nNO Drugs or Drug Paraphernalia\nNO Fireworks\, Explosives or Road Flares\nNO Flags\nNO Flyers\, Samples\, Giveaways or Promotional Items\nNO Glass Bottles or Containers\nNO Glow Sticks\, Light Sticks\, or LED Gloves\nNO Hammocks\nNO Hula Hoops\nNO Hoverboards or Segways\nNO Instruments\nNO IV Bags\nNO Kites or Sky Lanterns\nNO Laser Pointers\nNO Markers or Paint Pens\nNO Massagers\nNO Metal Water Bottles or Containers\nNO Narcan\nNO Outside Food or Beverage\nNO Non-Personal Protective Equipment (PPE) Masks (costume)\nNO Selfie Sticks\, Tripods or Narcissists\nNO Smelling Salts\nNO Stuffed Animals\nNO Tailgating\nNO Tents or Sleeping Bags\nNO Tourniquets\nNO Toy Guns\, Water Guns or Sling Shots\nNO Totems\nNO Umbrellas\nNO Video Cameras\nNO Wagons\nNO Walkie Talkies\nNo Weapons (Guns\, Knives\, Ammo\, Pepper Spray\, Mace\, etc.)\n** Any items deemed inappropriate or unsafe by Management will not be allowed. You must either return item to vehicle or surrender the item to security. **
URL:https://moshouseofaxe.com/event/this-aint-no-picnic-official-pre-parties-t/
LOCATION:Mo’s House of Axe\, 611 S Western Ave\, Los Angeles\, CA\, 90005\, United States
CATEGORIES:TANP at Mo's House of Axe
ORGANIZER;CN="Mo%27s%20House%20of%20Axe":MAILTO:info@moshouseofaxe.com
END:VEVENT
BEGIN:VEVENT
DTSTART;TZID=America/Los_Angeles:20220812T210000
DTEND;TZID=America/Los_Angeles:20220813T020000
DTSTAMP:20260419T235829
CREATED:20220802T195629Z
LAST-MODIFIED:20220824T201854Z
UID:2155-1660338000-1660356000@moshouseofaxe.com
SUMMARY:This Ain't No Picnic Pre-Parties and Weekender Ticket Giveaway!
DESCRIPTION:This Ain’t No Picnic is a 2-day festival taking place on August 27 & 28\, 2022\nat Brookside at the Rose Bowl in Pasadena\, California!\nPurchasable tickets still available!\n\nMo’s House of Axe is hosting the OFFICIAL Pre-Parties for the\nHOTTEST MUSIC FESTIVAL OF THE SUMMER!\nAUGUST 12th & 26th \n\n*** RESERVE YOUR AXE THROWING LANES HERE TO ENTER OUR BULLSEYE COMPETITION! ***\nYOU CAN WIN A SET OF WEEKENDER TANP TICKETS EVERY FRIDAY IN AUGUST! \n\nReserve your axe throwing lanes to ENTER the competition below!\nwww.moshouseofaxe.com/reservations\n\nDJ Sur Jazz playing the official This Ain’t No Picnic Lineup Playlist!\n\nA few of everyone’s favorites such as LCD SoundSystem\, The Strokes\, Descendents\, Jorja Smith\, Kaytranada\, Isaiah Rashad\, Phoebe Bridgers\, Beach House\, and MANY MORE!\n\nNot into competition? That’s fine! TICKETS FOR PURCHASE AVAILABLE! Hurry!\n\nhttps://thisaintnopicnic.com/tickets/\n\n\n\n\n\n\n\n\nFESTIVAL GENERAL INFO:\nVenue doors open at Noon both days. Curfew is 11pm.\nShow will take place rain or Shine.\nNo Ins/Outs.\nAll Ages welcome.\nExcluding Clubhouse (21+).\nChildren 5 & under are free.\nMust be accompanied by a ticketed adult. Excluding Clubhouse (21+).\nFood and beverages sold separately.\nLineup and set times are subject to change without notice.\nPlease visit our ADA page for ADA information.\nALLOWED ITEMS\nYES Backpacks (Medium) 18″x13″x8.5″\nYES Bandaids\nYES Binoculars\nYES Breast Pump (Manual\, Battery Operated\, Or Powered Devices)\nYES CamelBaks (Empty)\nYES Cameras (Non-Pro Digital\, Disposable\, Polaroid and Film)\nYES Chapstick and Lip Balm\nYES Dancing Shoes\nYES Ear Plugs\nYES Eye Drops\nYES Fanny Packs and Hip Bags\nYES GoPros\nYES Gum (sealed packs)\nYES Hand Sanitizer\nYES Hats\nYES Inhalers\nYES Makeup\nYES Mobile Phone Chargers\nYES Parasols\nYES Plastic Water Bottles (Empty and Reusable)\nYES Personal Medication (Name On Medication Must Correlate With Persons DL or State ID)\nYES Personal Protective Equipment (PPE) Masks\nYES Purses and Handbags 12”x6”x12”\nYES Stored Breastmilk or Formula\nYES Strollers (for baby/toddlers only)\nYES Sunblock (Non-Aerosol)\nYES Sunglasses\nYES Towels (small-medium size)\nPROHIBITED ITEMS\nNO Advanced First Aid Kits (Advanced first aid kits include but not limited to hemostatic gauze or powder\, tourniquets\, compression bandages\, decompression needles\, or chest seals)\nNO Aerosol Products/Aerosol Cans\nNO Air Horns\nNO Animals\nNO Audio Recording Devices\nNO Bicycles\, Skates\, Scooters or Skateboards\nNO Blankets\nNO Body Armor\nNO Coolers\nNO Chains or Chain Wallets\nNO Chairs\nNO Detachable Lens Cameras\nNO Drones or Remote Control Aircraft\, Cars or Toys\nNO Drugs or Drug Paraphernalia\nNO Fireworks\, Explosives or Road Flares\nNO Flags\nNO Flyers\, Samples\, Giveaways or Promotional Items\nNO Glass Bottles or Containers\nNO Glow Sticks\, Light Sticks\, or LED Gloves\nNO Hammocks\nNO Hula Hoops\nNO Hoverboards or Segways\nNO Instruments\nNO IV Bags\nNO Kites or Sky Lanterns\nNO Laser Pointers\nNO Markers or Paint Pens\nNO Massagers\nNO Metal Water Bottles or Containers\nNO Narcan\nNO Outside Food or Beverage\nNO Non-Personal Protective Equipment (PPE) Masks (costume)\nNO Selfie Sticks\, Tripods or Narcissists\nNO Smelling Salts\nNO Stuffed Animals\nNO Tailgating\nNO Tents or Sleeping Bags\nNO Tourniquets\nNO Toy Guns\, Water Guns or Sling Shots\nNO Totems\nNO Umbrellas\nNO Video Cameras\nNO Wagons\nNO Walkie Talkies\nNo Weapons (Guns\, Knives\, Ammo\, Pepper Spray\, Mace\, etc.)\n** Any items deemed inappropriate or unsafe by Management will not be allowed. You must either return item to vehicle or surrender the item to security. **
URL:https://moshouseofaxe.com/event/this-aint-no-picnic-official-pre-parties-at-mos-house-of-axe/
LOCATION:Mo’s House of Axe\, 611 S Western Ave\, Los Angeles\, CA\, 90005\, United States
CATEGORIES:TANP at Mo's House of Axe
ORGANIZER;CN="Mo%27s%20House%20of%20Axe":MAILTO:info@moshouseofaxe.com
END:VEVENT
BEGIN:VEVENT
DTSTART;TZID=America/Los_Angeles:20220809T210000
DTEND;TZID=America/Los_Angeles:20220810T000000
DTSTAMP:20260419T235829
CREATED:20220802T195041Z
LAST-MODIFIED:20220802T195041Z
UID:2151-1660078800-1660089600@moshouseofaxe.com
SUMMARY:CHOPPED At Mo's
DESCRIPTION:Chopped at Mo’s\n\nDoors open at 9PM\, show starts at 10PM!\n\nLet the Queens have their fun with interactive games. 10PM & 11:30PM\n\nSets by DJ Tyler Stone throughout the night!\n\nWill you be the WINNER of our prize when going one on one axe throwing with the Queens?\n\nPractice your throws by reserving an axe throwing lane for you and your friends!\n\nMIDNIGHT: Lip Sync Battle! DON’T MISS THIS!
URL:https://moshouseofaxe.com/event/chopped-at-mos/
LOCATION:Mo’s House of Axe\, 611 S Western Ave\, Los Angeles\, CA\, 90005\, United States
CATEGORIES:CHOPPED at Mo's
ORGANIZER;CN="Mo%27s%20House%20of%20Axe":MAILTO:info@moshouseofaxe.com
END:VEVENT
BEGIN:VEVENT
DTSTART;TZID=America/Los_Angeles:20220727T180000
DTEND;TZID=America/Los_Angeles:20220728T000000
DTSTAMP:20260419T235829
CREATED:20220723T014511Z
LAST-MODIFIED:20220723T014716Z
UID:2139-1658944800-1658966400@moshouseofaxe.com
SUMMARY:SIP & AXE Launch Party
DESCRIPTION:Mo’s House of Axe launches SIP & AXE with Tesoro Azteca Tequila! \nPremium Tequila Tasting with exclusive Mo’s House of Axe cocktails\, made in collaboration with Tesoro Azteca Tequila! \nLIVE MUSIC for a Latin musical experience with DJ Sur Jazz on the plates and GYPSY NIGHTS (featuring members from the Gypsy Kings!) \nBook your dining table and axe throwing bays on our website.\nRESERVATIONS \nSpecial guest star Julio Gonzalez Garcia (son of the legendary Don Julio) and the man himself will be coming to meet and hangout with you all! \nDon’t miss out on a night to SIP & AXE!
URL:https://moshouseofaxe.com/event/sip-axe-launch-party/
LOCATION:CA
CATEGORIES:SIP & AXE
ORGANIZER;CN="Mo%27s%20House%20of%20Axe":MAILTO:info@moshouseofaxe.com
END:VEVENT
BEGIN:VEVENT
DTSTART;TZID=America/Los_Angeles:20220518T200000
DTEND;TZID=America/Los_Angeles:20220519T200000
DTSTAMP:20260419T235829
CREATED:20220511T212106Z
LAST-MODIFIED:20220513T023701Z
UID:1825-1652904000-1652990400@moshouseofaxe.com
SUMMARY:Mo's Metropolis: Wednesday Night Break Beats\, Funk\, Axe Throwing
DESCRIPTION:
URL:https://moshouseofaxe.com/event/mos-metropolis/
LOCATION:Mo’s House of Axe\, 611 S Western Ave\, Los Angeles\, CA\, 90005\, United States
CATEGORIES:Metropolis LA
ATTACH;FMTTYPE=image/jpeg:https://moshouseofaxe.com/wp-content/uploads/2022/05/Mos-House-of-Axe-Metropolis-Los-Angeles-Wednesday-night-axe-throwing-DJ-Music-Funk--scaled.jpeg
END:VEVENT
BEGIN:VEVENT
DTSTART;TZID=America/Los_Angeles:20220511T190000
DTEND;TZID=America/Los_Angeles:20220512T020000
DTSTAMP:20260419T235829
CREATED:20220507T001209Z
LAST-MODIFIED:20220801T083316Z
UID:1800-1652295600-1652320800@moshouseofaxe.com
SUMMARY:LOS ANGELES is about to get a whole lot Funkier!
DESCRIPTION:Tonight & every Wednesday night LOS ANGELES is about to get a whole lot Funkier!\nWiggle your AXE on Down to Mo’s Metropolis.\nClick here for a free RSVP\n  \n\nhttps://moshouseofaxe.com/wp-content/uploads/2022/05/Tbtn-05-11-2022-2-1.mp4\nAtivador Office 2013 \nxvideo studio video editor pro apk download for android \nshare me app \n 
URL:https://moshouseofaxe.com/event/mos-house-of-axe-funk-music-wednesday-nights/
LOCATION:Mo’s House of Axe\, 611 S Western Ave\, Los Angeles\, CA\, 90005\, United States
CATEGORIES:Metropolis LA
ATTACH;FMTTYPE=image/jpeg:https://moshouseofaxe.com/wp-content/uploads/2022/05/DJ-NuMark-at-Mos-House-of-Axe-Banner-.jpg
END:VEVENT
END:VCALENDAR