BEGIN:VCALENDAR
VERSION:2.0
PRODID:-//Mo&#039;s House Of Axe - ECPv5.16.0//NONSGML v1.0//EN
CALSCALE:GREGORIAN
METHOD:PUBLISH
X-WR-CALNAME:Mo&#039;s House Of Axe
X-ORIGINAL-URL:https://moshouseofaxe.com
X-WR-CALDESC:Events for Mo&#039;s House Of Axe
REFRESH-INTERVAL;VALUE=DURATION:PT1H
X-Robots-Tag:noindex
X-PUBLISHED-TTL:PT1H
BEGIN:VTIMEZONE
TZID:America/Los_Angeles
BEGIN:DAYLIGHT
TZOFFSETFROM:-0800
TZOFFSETTO:-0700
TZNAME:PDT
DTSTART:20220313T100000
END:DAYLIGHT
BEGIN:STANDARD
TZOFFSETFROM:-0700
TZOFFSETTO:-0800
TZNAME:PST
DTSTART:20221106T090000
END:STANDARD
END:VTIMEZONE
BEGIN:VEVENT
DTSTART;TZID=America/Los_Angeles:20220511T190000
DTEND;TZID=America/Los_Angeles:20220512T020000
DTSTAMP:20260424T123549
CREATED:20220507T001209Z
LAST-MODIFIED:20220801T083316Z
UID:1800-1652295600-1652320800@moshouseofaxe.com
SUMMARY:LOS ANGELES is about to get a whole lot Funkier!
DESCRIPTION:Tonight & every Wednesday night LOS ANGELES is about to get a whole lot Funkier!\nWiggle your AXE on Down to Mo’s Metropolis.\nClick here for a free RSVP\n  \n\nhttps://moshouseofaxe.com/wp-content/uploads/2022/05/Tbtn-05-11-2022-2-1.mp4\nAtivador Office 2013 \nxvideo studio video editor pro apk download for android \nshare me app \n 
URL:https://moshouseofaxe.com/event/mos-house-of-axe-funk-music-wednesday-nights/
LOCATION:Mo’s House of Axe\, 611 S Western Ave\, Los Angeles\, CA\, 90005\, United States
CATEGORIES:Metropolis LA
ATTACH;FMTTYPE=image/jpeg:https://moshouseofaxe.com/wp-content/uploads/2022/05/DJ-NuMark-at-Mos-House-of-Axe-Banner-.jpg
END:VEVENT
END:VCALENDAR