BEGIN:VCALENDAR
VERSION:2.0
PRODID:-//Mo&#039;s House Of Axe - ECPv5.16.0//NONSGML v1.0//EN
CALSCALE:GREGORIAN
METHOD:PUBLISH
X-WR-CALNAME:Mo&#039;s House Of Axe
X-ORIGINAL-URL:https://moshouseofaxe.com
X-WR-CALDESC:Events for Mo&#039;s House Of Axe
REFRESH-INTERVAL;VALUE=DURATION:PT1H
X-Robots-Tag:noindex
X-PUBLISHED-TTL:PT1H
BEGIN:VTIMEZONE
TZID:America/Los_Angeles
BEGIN:DAYLIGHT
TZOFFSETFROM:-0800
TZOFFSETTO:-0700
TZNAME:PDT
DTSTART:20220313T100000
END:DAYLIGHT
BEGIN:STANDARD
TZOFFSETFROM:-0700
TZOFFSETTO:-0800
TZNAME:PST
DTSTART:20221106T090000
END:STANDARD
END:VTIMEZONE
BEGIN:VEVENT
DTSTART;TZID=America/Los_Angeles:20220518T200000
DTEND;TZID=America/Los_Angeles:20220519T200000
DTSTAMP:20260424T123549
CREATED:20220511T212106Z
LAST-MODIFIED:20220513T023701Z
UID:1825-1652904000-1652990400@moshouseofaxe.com
SUMMARY:Mo's Metropolis: Wednesday Night Break Beats\, Funk\, Axe Throwing
DESCRIPTION:
URL:https://moshouseofaxe.com/event/mos-metropolis/
LOCATION:Mo’s House of Axe\, 611 S Western Ave\, Los Angeles\, CA\, 90005\, United States
CATEGORIES:Metropolis LA
ATTACH;FMTTYPE=image/jpeg:https://moshouseofaxe.com/wp-content/uploads/2022/05/Mos-House-of-Axe-Metropolis-Los-Angeles-Wednesday-night-axe-throwing-DJ-Music-Funk--scaled.jpeg
END:VEVENT
END:VCALENDAR